BEGIN:VCALENDAR
VERSION:2.0
PRODID:-//RCCG, Hosanna Chapel Helsinki - ECPv6.15.3//NONSGML v1.0//EN
CALSCALE:GREGORIAN
METHOD:PUBLISH
X-ORIGINAL-URL:https://rccghelsinki.com
X-WR-CALDESC:Events for RCCG, Hosanna Chapel Helsinki
REFRESH-INTERVAL;VALUE=DURATION:PT1H
X-Robots-Tag:noindex
X-PUBLISHED-TTL:PT1H
BEGIN:VTIMEZONE
TZID:UTC
BEGIN:STANDARD
TZOFFSETFROM:+0000
TZOFFSETTO:+0000
TZNAME:UTC
DTSTART:20260101T000000
END:STANDARD
END:VTIMEZONE
BEGIN:VEVENT
DTSTART;VALUE=DATE:20261107
DTEND;VALUE=DATE:20261109
DTSTAMP:20260424T022259
CREATED:20260325T194417Z
LAST-MODIFIED:20260325T194430Z
UID:1670-1794009600-1794182399@rccghelsinki.com
SUMMARY:MEN'S WEEKEND & FATHER'S DAY – Iron Sharpens Iron!
DESCRIPTION:📅 Dates: Saturday\, November 7th – November 8th 2026 \nMen\, it’s time to rise and embrace your God-given calling at our Men’s Weekend & Father’s Day\, happening Saturday 7th – Sunday 8th November. This is a weekend designed to strengthen\, inspire\, and equip men to walk boldly in faith\, leadership\, and purpose. \n📢 Experience powerful teaching sessions\, dynamic fellowship\, focused prayer\, and practical wisdom for fatherhood and leadership. Connect with other men of faith\, recharge your spirit\, and gain the tools to step confidently into godly manhood. \nWhether you’re a father\, husband\, son\, or mentor\, this weekend is your opportunity to grow\, be sharpened\, and embrace the strength God placed within you. Expect transformation\, encouragement\, and divine empowerment to lead with integrity and courage. Come ready to be challenged\, inspired\, and elevated—this is your season to rise! 🙌
URL:https://rccghelsinki.com/event/mens-weekend-fathers-day-iron-sharpens-iron/
LOCATION:Hosanna Chapel\, Helsinki\, Sornaisten Rantatie 33D\, 3rd Floor\, Helsinki\, 00960\, Finland
ATTACH;FMTTYPE=image/jpeg:https://rccghelsinki.com/wp-content/uploads/2026/03/WhatsApp-Image-2026-03-25-at-21.42.05.jpg
ORGANIZER;CN="RCCG Hosanna Chapel%2C Helsinki":MAILTO:rccghelsinki2016@gmail.com
END:VEVENT
BEGIN:VEVENT
DTSTART;TZID=UTC:20261122T120000
DTEND;TZID=UTC:20261122T143000
DTSTAMP:20260424T022259
CREATED:20260325T194702Z
LAST-MODIFIED:20260325T194736Z
UID:1673-1795348800-1795357800@rccghelsinki.com
SUMMARY:EVERY PRAISE AND QUIZ SUPER SUNDAY – Praise\, Fun & Fellowship!
DESCRIPTION:📅 Date: Sunday\, November 22nd 2026 \nGet ready for a high-energy\, fun-filled Sunday like no other! Join us Sunday 22nd November for Every Praise and Quiz Super Sunday\, where worship\, excitement\, and fellowship come together in a celebration for all ages. \nExperience explosive praise\, uplifting worship\, and interactive Bible quizzes that will challenge your knowledge\, spark your curiosity\, and bring everyone together in joyful competition. With prizes\, laughter\, and a vibrant atmosphere\, this is a perfect opportunity to connect with friends\, family\, and the Hosanna community. \nBring your energy\, team spirit\, and enthusiasm\, and get ready to lift the name of Jesus high while having a blast! From kids to adults\, everyone will find a reason to celebrate\, learn\, and enjoy the day. Praise\, play\, and fellowship—don’t miss this supercharged Sunday!
URL:https://rccghelsinki.com/event/every-praise-and-quiz-super-sunday-praise-fun-fellowship/
LOCATION:Hosanna Chapel\, Helsinki\, Sornaisten Rantatie 33D\, 3rd Floor\, Helsinki\, 00960\, Finland
ATTACH;FMTTYPE=image/png:https://rccghelsinki.com/wp-content/uploads/2024/07/loo.png
ORGANIZER;CN="RCCG Hosanna Chapel%2C Helsinki":MAILTO:rccghelsinki2016@gmail.com
END:VEVENT
END:VCALENDAR