BEGIN:VCALENDAR
VERSION:2.0
PRODID:-//RCCG, Hosanna Chapel Helsinki - ECPv6.15.3//NONSGML v1.0//EN
CALSCALE:GREGORIAN
METHOD:PUBLISH
X-ORIGINAL-URL:https://rccghelsinki.com
X-WR-CALDESC:Events for RCCG, Hosanna Chapel Helsinki
REFRESH-INTERVAL;VALUE=DURATION:PT1H
X-Robots-Tag:noindex
X-PUBLISHED-TTL:PT1H
BEGIN:VTIMEZONE
TZID:UTC
BEGIN:STANDARD
TZOFFSETFROM:+0000
TZOFFSETTO:+0000
TZNAME:UTC
DTSTART:20260101T000000
END:STANDARD
END:VTIMEZONE
BEGIN:VEVENT
DTSTART;VALUE=DATE:20260905
DTEND;VALUE=DATE:20260906
DTSTAMP:20260423T233101
CREATED:20260311T173037Z
LAST-MODIFIED:20260325T193046Z
UID:1641-1788566400-1788652799@rccghelsinki.com
SUMMARY:FAMILY SEMINAR - Preserving the Elements of Kingdom Family
DESCRIPTION:📅 Date: Saturday\, September 5th 2026 \nBuild a stronger\, healthier\, and more purpose-driven home as we gather for a powerful Family Seminar dedicated to nurturing families according to God’s design. In a world where families face many challenges\, this special weekend offers an opportunity to rediscover the principles that create lasting love\, unity\, and spiritual strength within the home. \n🙌 Join us Saturday 5th September for a time of insightful teaching\, heartfelt discussions\, and practical guidance centered on biblical foundations for marriage\, parenting\, and family life. Whether you are married\, preparing for marriage\, raising children\, or simply seeking wisdom for family relationships\, this seminar is designed to equip and encourage you. \nThrough powerful sessions and shared experiences\, you will discover how to strengthen communication\, restore harmony\, deepen love\, and build a home rooted in faith and purpose. It’s also a moment for healing\, renewal\, and reconnecting with God’s vision for the family. \nStrong families build strong communities\, and strong communities build a stronger Kingdom. This weekend is an investment in the future of your home and the generations to come. \nBring your spouse\, invite other families\, and come ready to receive wisdom that can transform your household. \nThis is the refreshment every home needs—join us and begin building a stronger Kingdom family today!
URL:https://rccghelsinki.com/event/family-seminar-preserving-the-elements-of-kingdom-family-2/
LOCATION:Hosanna Chapel\, Helsinki\, Sornaisten Rantatie 33D\, 3rd Floor\, Helsinki\, 00960\, Finland
ATTACH;FMTTYPE=image/jpeg:https://rccghelsinki.com/wp-content/uploads/2024/06/family-1.jpg
ORGANIZER;CN="RCCG Hosanna Chapel%2C Helsinki":MAILTO:rccghelsinki2016@gmail.com
END:VEVENT
BEGIN:VEVENT
DTSTART;TZID=UTC:20260906T120000
DTEND;TZID=UTC:20260906T150000
DTSTAMP:20260423T233101
CREATED:20260311T174701Z
LAST-MODIFIED:20260325T193118Z
UID:1645-1788696000-1788706800@rccghelsinki.com
SUMMARY:INTERNATIONAL MULTI-CULTURAL DAY – One Family\, Many Nations!
DESCRIPTION:📅 Date: Sunday\, September 6th 2026 \nCelebrate the beautiful diversity of God’s Kingdom at International Multi-Cultural Day! Join us Sunday 6th September at 12:00 for a vibrant\, joy-filled gathering where nations come together as one family in Christ. \n🎶 Experience a feast for the senses with delicious food\, uplifting music\, inspiring testimonies\, and powerful worship from cultures across the globe. It’s a unique opportunity to honor the richness of our differences while celebrating the unity we share in Jesus. \nBring your culture\, your friends\, and your love for celebration as we come together to reflect the glory of God’s family in Helsinki. Share\, connect\, and rejoice in the stories and traditions that make each of us unique\, while praising the One who brings us all together. \nThis is more than an event—it’s heaven on earth\, a moment to see the beauty of God’s Kingdom reflected in every nation. Let’s unite in faith\, fellowship\, and celebration—One Family\, Many Nations!
URL:https://rccghelsinki.com/event/international-multi-cultural-day-one-family-many-nation/
LOCATION:Hosanna Chapel\, Helsinki\, Sornaisten Rantatie 33D\, 3rd Floor\, Helsinki\, 00960\, Finland
ATTACH;FMTTYPE=image/jpeg:https://rccghelsinki.com/wp-content/uploads/2025/05/outreach.jpg
ORGANIZER;CN="RCCG Hosanna Chapel%2C Helsinki":MAILTO:rccghelsinki2016@gmail.com
END:VEVENT
BEGIN:VEVENT
DTSTART;VALUE=DATE:20260926
DTEND;VALUE=DATE:20260928
DTSTAMP:20260423T233101
CREATED:20260325T192031Z
LAST-MODIFIED:20260325T193521Z
UID:1652-1790380800-1790553599@rccghelsinki.com
SUMMARY:JAX & GOSPEL FESTIVAL – Epic Praise Party!
DESCRIPTION:📅 Dates: Saturday\, September 26th & Sunday\, September 27th 2026 \n🎶 Get ready for two days of unstoppable joy\, worship\, and celebration at the JAX & Gospel Festival! From Saturday 26th to Sunday 27th September\, experience an electrifying atmosphere where faith\, music\, and community collide in an unforgettable Gospel explosion. \nEnjoy powerful performances\, anointed worship sessions\, and moments of pure celebration that will lift your spirit and fill your heart with unspeakable joy. Dance\, sing\, shout\, and connect with God like never before as the festival moves you into deeper praise and fresh encounters with His presence. \nThis is more than a festival—it’s a spiritual celebration\, a revival of joy\, and a gathering of hearts hungry for God. Bring your friends\, family\, and anyone ready to experience the energy of God’s kingdom through music and worship. \nCome ready to be uplifted\, inspired\, and set ablaze! Your spirit will soar\, your faith will ignite\, and your heart will rejoice. Don’t miss the ultimate Gospel party of the year!
URL:https://rccghelsinki.com/event/jax-gospel-festival-epic-praise-party/
LOCATION:Hosanna Chapel\, Helsinki\, Sornaisten Rantatie 33D\, 3rd Floor\, Helsinki\, 00960\, Finland
ATTACH;FMTTYPE=image/png:https://rccghelsinki.com/wp-content/uploads/2024/07/loo.png
ORGANIZER;CN="RCCG Hosanna Chapel%2C Helsinki":MAILTO:rccghelsinki2016@gmail.com
END:VEVENT
END:VCALENDAR