BEGIN:VCALENDAR
VERSION:2.0
PRODID:-//RCCG, Hosanna Chapel Helsinki - ECPv6.15.3//NONSGML v1.0//EN
CALSCALE:GREGORIAN
METHOD:PUBLISH
X-ORIGINAL-URL:https://rccghelsinki.com
X-WR-CALDESC:Events for RCCG, Hosanna Chapel Helsinki
REFRESH-INTERVAL;VALUE=DURATION:PT1H
X-Robots-Tag:noindex
X-PUBLISHED-TTL:PT1H
BEGIN:VTIMEZONE
TZID:UTC
BEGIN:STANDARD
TZOFFSETFROM:+0000
TZOFFSETTO:+0000
TZNAME:UTC
DTSTART:20260101T000000
END:STANDARD
END:VTIMEZONE
BEGIN:VEVENT
DTSTART;TZID=UTC:20260311T080000
DTEND;TZID=UTC:20260311T170000
DTSTAMP:20260423T172942
CREATED:20260311T172315Z
LAST-MODIFIED:20260311T172315Z
UID:1638-1773216000-1773248400@rccghelsinki.com
SUMMARY:Family Seminar – Preserving the Elements of Kingdom Family
DESCRIPTION:📅 Date: Saturday\, September 5th \nBuild a stronger\, healthier\, and more purpose-driven home as we gather for a powerful Family Seminar dedicated to nurturing families according to God’s design. In a world where families face many challenges\, this special weekend offers an opportunity to rediscover the principles that create lasting love\, unity\, and spiritual strength within the home. \n🙌 Join us Saturday 5th September for a time of insightful teaching\, heartfelt discussions\, and practical guidance centered on biblical foundations for marriage\, parenting\, and family life. Whether you are married\, preparing for marriage\, raising children\, or simply seeking wisdom for family relationships\, this seminar is designed to equip and encourage you. \nThrough powerful sessions and shared experiences\, you will discover how to strengthen communication\, restore harmony\, deepen love\, and build a home rooted in faith and purpose. It’s also a moment for healing\, renewal\, and reconnecting with God’s vision for the family. \nStrong families build strong communities\, and strong communities build a stronger Kingdom. This weekend is an investment in the future of your home and the generations to come. Bring your spouse\, invite other families\, and come ready to receive wisdom that can transform your household. \nThis is the refreshment every home needs—join us and begin building a stronger Kingdom family today!
URL:https://rccghelsinki.com/event/family-seminar-preserving-the-elements-of-kingdom-family/
LOCATION:Hosanna Chapel\, Helsinki\, Sornaisten Rantatie 33D\, 3rd Floor\, Helsinki\, 00960\, Finland
ATTACH;FMTTYPE=image/jpeg:https://rccghelsinki.com/wp-content/uploads/2024/06/family-1.jpg
ORGANIZER;CN="RCCG Hosanna Chapel%2C Helsinki":MAILTO:rccghelsinki2016@gmail.com
END:VEVENT
BEGIN:VEVENT
DTSTART;TZID=UTC:20260325T080000
DTEND;TZID=UTC:20260325T170000
DTSTAMP:20260423T172942
CREATED:20260325T201757Z
LAST-MODIFIED:20260325T201757Z
UID:1688-1774425600-1774458000@rccghelsinki.com
SUMMARY:HARVEST THANKSGIVING SERVICE – Grateful Hearts Overflowing!
DESCRIPTION:📅 Date: Sunday\, 7th February 2027 \nStart 2027 with a heart full of gratitude at our Harvest Thanksgiving Service on Sunday 7th February 2027. Join us for a vibrant celebration of God’s goodness\, faithfulness\, and bountiful harvest in every area of life. \nCome ready to give thanks through joyful worship\, inspiring testimonies\, and special offerings\, as we reflect on all that God accomplished in 2026 and position ourselves for even greater blessings in the new year. This is a perfect moment to honor His faithfulness\, rejoice in answered prayers\, and sow seeds of hope and favor for the seasons ahead. \n🙌 Bring your family\, friends\, and a grateful heart\, and join a community of believers celebrating the abundance of God. Let your thanksgiving overflow\, and step boldly into a year of increased favor and harvest. Celebrate\, give thanks\, and position yourself for more—Grateful Hearts Overflowing awaits! \n 
URL:https://rccghelsinki.com/event/harvest-thanksgiving-service-grateful-hearts-overflowing/
LOCATION:Hosanna Chapel\, Helsinki\, Sornaisten Rantatie 33D\, 3rd Floor\, Helsinki\, 00960\, Finland
ATTACH;FMTTYPE=image/png:https://rccghelsinki.com/wp-content/uploads/2024/07/loo.png
ORGANIZER;CN="RCCG Hosanna Chapel%2C Helsinki":MAILTO:rccghelsinki2016@gmail.com
END:VEVENT
END:VCALENDAR