BEGIN:VCALENDAR
VERSION:2.0
PRODID:-//RCCG, Hosanna Chapel Helsinki - ECPv6.15.3//NONSGML v1.0//EN
CALSCALE:GREGORIAN
METHOD:PUBLISH
X-ORIGINAL-URL:https://rccghelsinki.com
X-WR-CALDESC:Events for RCCG, Hosanna Chapel Helsinki
REFRESH-INTERVAL;VALUE=DURATION:PT1H
X-Robots-Tag:noindex
X-PUBLISHED-TTL:PT1H
BEGIN:VTIMEZONE
TZID:UTC
BEGIN:STANDARD
TZOFFSETFROM:+0000
TZOFFSETTO:+0000
TZNAME:UTC
DTSTART:20260101T000000
END:STANDARD
END:VTIMEZONE
BEGIN:VEVENT
DTSTART;TZID=UTC:20260201T120000
DTEND;TZID=UTC:20260201T150000
DTSTAMP:20260423T185400
CREATED:20260125T102636Z
LAST-MODIFIED:20260125T102636Z
UID:1606-1769947200-1769958000@rccghelsinki.com
SUMMARY:Annual Thanksgiving Service
DESCRIPTION:📆 Date: Sunday\, 1st February 2026 \n🪇 Enter Into His gates with Thanksgiving\, and Into His courts with Praise! \nCome prepared to dance\, sing\, and experience the glory of God in an atmosphere of unrestrained praise.
URL:https://rccghelsinki.com/event/annual-thanksgiving-service/
LOCATION:Hosanna Chapel\, Helsinki\, Sornaisten Rantatie 33D\, 3rd Floor\, Helsinki\, 00960\, Finland
ATTACH;FMTTYPE=image/jpeg:https://rccghelsinki.com/wp-content/uploads/2026/01/Thanksgiving-copy.jpg
ORGANIZER;CN="RCCG Hosanna Chapel%2C Helsinki":MAILTO:rccghelsinki2016@gmail.com
END:VEVENT
END:VCALENDAR