BEGIN:VCALENDAR
VERSION:2.0
PRODID:-//RCCG, Hosanna Chapel Helsinki - ECPv6.15.3//NONSGML v1.0//EN
CALSCALE:GREGORIAN
METHOD:PUBLISH
X-WR-CALNAME:RCCG, Hosanna Chapel Helsinki
X-ORIGINAL-URL:https://rccghelsinki.com
X-WR-CALDESC:Events for RCCG, Hosanna Chapel Helsinki
REFRESH-INTERVAL;VALUE=DURATION:PT1H
X-Robots-Tag:noindex
X-PUBLISHED-TTL:PT1H
BEGIN:VTIMEZONE
TZID:UTC
BEGIN:STANDARD
TZOFFSETFROM:+0000
TZOFFSETTO:+0000
TZNAME:UTC
DTSTART:20250101T000000
END:STANDARD
END:VTIMEZONE
BEGIN:VEVENT
DTSTART;TZID=UTC:20251231T203000
DTEND;TZID=UTC:20260101T010000
DTSTAMP:20260423T203042
CREATED:20250523T103854Z
LAST-MODIFIED:20251228T094814Z
UID:1539-1767213000-1767229200@rccghelsinki.com
SUMMARY:Powerful Holy Ghost Cross Over Night
DESCRIPTION:📅 Date: Wednesday\, December 31\, 2025\n⏰ Time: 20:30 pm \n🔥 Cross Into 2026 with Power! \nJoin us for a night of divine encounter as we cross over into the New Year. The Powerful Holy Ghost Cross Over Night is a time to thank God for the year gone by and step into 2026 with power\, faith\, and prophetic declarations. \nExpect an atmosphere charged with intense worship\, fervent prayers\, and life-transforming messages. Come prepared to receive fresh fire from the Holy Spirit and walk into the New Year with divine direction. \nDon’t miss this powerful night of spiritual empowerment and victory. Let’s cross over together!
URL:https://rccghelsinki.com/event/powerful-holy-ghost-cross-over-night-2/
LOCATION:Hosanna Chapel\, Helsinki\, Sornaisten Rantatie 33D\, 3rd Floor\, Helsinki\, 00960\, Finland
ATTACH;FMTTYPE=image/jpeg:https://rccghelsinki.com/wp-content/uploads/2025/05/crossover-service-edited-copy.jpg
ORGANIZER;CN="RCCG Hosanna Chapel%2C Helsinki":MAILTO:rccghelsinki2016@gmail.com
END:VEVENT
END:VCALENDAR