BEGIN:VCALENDAR
VERSION:2.0
PRODID:-//RCCG, Hosanna Chapel Helsinki - ECPv6.15.3//NONSGML v1.0//EN
CALSCALE:GREGORIAN
METHOD:PUBLISH
X-WR-CALNAME:RCCG, Hosanna Chapel Helsinki
X-ORIGINAL-URL:https://rccghelsinki.com
X-WR-CALDESC:Events for RCCG, Hosanna Chapel Helsinki
REFRESH-INTERVAL;VALUE=DURATION:PT1H
X-Robots-Tag:noindex
X-PUBLISHED-TTL:PT1H
BEGIN:VTIMEZONE
TZID:UTC
BEGIN:STANDARD
TZOFFSETFROM:+0000
TZOFFSETTO:+0000
TZNAME:UTC
DTSTART:20250101T000000
END:STANDARD
END:VTIMEZONE
BEGIN:VEVENT
DTSTART;VALUE=DATE:20251108
DTEND;VALUE=DATE:20251110
DTSTAMP:20260423T232908
CREATED:20250523T095726Z
LAST-MODIFIED:20251102T101717Z
UID:1526-1762560000-1762732799@rccghelsinki.com
SUMMARY:Men’s Weekend & Father’s Day
DESCRIPTION:📅 Dates: \n\nSaturday\, November 8\, Time: 14 pm – 17 pm\nSunday\, November 9\, 2025\, Time: 12 pm – 14 pm\n\n👔 Theme: The Legacy of a Godly man \nMen\, this weekend is specially designed for you! Join us for a time of spiritual growth\, encouragement\, and bonding with fellow men of faith. \nThe Men’s Weekend features inspiring teachings\, engaging discussions\, and activities that will challenge and uplift you. We’ll conclude with a powerful Father’s Day service where fathers and male role models will be celebrated. \nWhether you’re a father\, son\, or brother\, this weekend will empower you to lead with godly wisdom and strength.
URL:https://rccghelsinki.com/event/mens-weekend-fathers-day/
LOCATION:Hosanna Chapel\, Helsinki\, Sornaisten Rantatie 33D\, 3rd Floor\, Helsinki\, 00960\, Finland
ATTACH;FMTTYPE=image/jpeg:https://rccghelsinki.com/wp-content/uploads/2025/05/Mens-weekened-img-for-website.jpg
ORGANIZER;CN="RCCG Hosanna Chapel%2C Helsinki":MAILTO:rccghelsinki2016@gmail.com
END:VEVENT
BEGIN:VEVENT
DTSTART;VALUE=DATE:20251115
DTEND;VALUE=DATE:20251117
DTSTAMP:20260423T232908
CREATED:20250523T100439Z
LAST-MODIFIED:20250523T100439Z
UID:1528-1763164800-1763337599@rccghelsinki.com
SUMMARY:Praise Weekend
DESCRIPTION:📅 Dates: Saturday\, November 15 – Sunday\, November 16\, 2025 \n🎶 Let Everything That Has Breath Praise the Lord! \nGet ready for a weekend filled with non-stop praise and worship! Join us for Praise Weekend as we lift up the name of Jesus with joyful songs and heartfelt worship. \nSaturday will feature dynamic worship sessions led by gifted ministers\, while Sunday promises a powerful service filled with thanksgiving and celebration. \nCome prepared to dance\, sing\, and experience the glory of God in an atmosphere of unrestrained praise.
URL:https://rccghelsinki.com/event/praise-weekend/
LOCATION:Hosanna Chapel\, Helsinki\, Sornaisten Rantatie 33D\, 3rd Floor\, Helsinki\, 00960\, Finland
ATTACH;FMTTYPE=image/jpeg:https://rccghelsinki.com/wp-content/uploads/2024/06/Choir-Minstering.jpg
ORGANIZER;CN="RCCG Hosanna Chapel%2C Helsinki":MAILTO:rccghelsinki2016@gmail.com
END:VEVENT
BEGIN:VEVENT
DTSTART;VALUE=DATE:20251123
DTEND;VALUE=DATE:20251124
DTSTAMP:20260423T232908
CREATED:20250523T100850Z
LAST-MODIFIED:20250523T100850Z
UID:1530-1763856000-1763942399@rccghelsinki.com
SUMMARY:Every Praise and Quiz Super Sunday
DESCRIPTION:📅 Date: Sunday\, November 23\, 2025 \n🤔 Worship\, Fellowship\, and Fun! \nIt’s time to test your knowledge and lift your voice in praise! Every Praise and Quiz Super Sunday combines the joy of worship with the thrill of a fun\, interactive quiz session. \nJoin us for a dynamic service filled with powerful praise sessions and moments of learning as we delve into biblical truths through engaging quizzes. \nBring your friends and family — it’s going to be a Sunday of joy\, growth\, and connection. Don’t miss it!
URL:https://rccghelsinki.com/event/every-praise-and-quiz-super-sunday-2/
LOCATION:Hosanna Chapel\, Helsinki\, Sornaisten Rantatie 33D\, 3rd Floor\, Helsinki\, 00960\, Finland
ATTACH;FMTTYPE=image/jpeg:https://rccghelsinki.com/wp-content/uploads/2024/06/StudyTheBible.jpg
ORGANIZER;CN="RCCG Hosanna Chapel%2C Helsinki":MAILTO:rccghelsinki2016@gmail.com
END:VEVENT
END:VCALENDAR