BEGIN:VCALENDAR
VERSION:2.0
PRODID:-//RCCG, Hosanna Chapel Helsinki - ECPv6.15.3//NONSGML v1.0//EN
CALSCALE:GREGORIAN
METHOD:PUBLISH
X-WR-CALNAME:RCCG, Hosanna Chapel Helsinki
X-ORIGINAL-URL:https://rccghelsinki.com
X-WR-CALDESC:Events for RCCG, Hosanna Chapel Helsinki
REFRESH-INTERVAL;VALUE=DURATION:PT1H
X-Robots-Tag:noindex
X-PUBLISHED-TTL:PT1H
BEGIN:VTIMEZONE
TZID:UTC
BEGIN:STANDARD
TZOFFSETFROM:+0000
TZOFFSETTO:+0000
TZNAME:UTC
DTSTART:20250101T000000
END:STANDARD
END:VTIMEZONE
BEGIN:VEVENT
DTSTART;VALUE=DATE:20251003
DTEND;VALUE=DATE:20251006
DTSTAMP:20260423T232505
CREATED:20250518T181655Z
LAST-MODIFIED:20250914T101029Z
UID:1522-1759449600-1759708799@rccghelsinki.com
SUMMARY:6th Women of Vision Conference - The Power of a Healed Woman
DESCRIPTION:📅 Dates: \n\nFriday\, October 3rd\, Time: 18 PM\nSaturday\, October 4th\, Time: 16 PM\nSunday\, October 5th\, Time: 12 PM – 3 PM\n\n💖 Empowering Women\, Inspiring Vision! \nLadies\, it’s time to rise and shine! The 6th Women of Vision Conference is a divine appointment designed to empower\, encourage\, and equip women to fulfill their God-given destinies. \nExpect life-transforming teachings from anointed speakers\, worship sessions that bring heaven down\, and opportunities to connect with other women of faith. \nWhether you’re seeking spiritual growth\, direction\, or a renewed passion for God\, this conference is for you. Come and experience a fresh move of the Holy Spirit in your life.
URL:https://rccghelsinki.com/event/5th-women-of-vision-conference-2/
LOCATION:Hosanna Chapel\, Helsinki\, Sornaisten Rantatie 33D\, 3rd Floor\, Helsinki\, 00960\, Finland
ATTACH;FMTTYPE=image/jpeg:https://rccghelsinki.com/wp-content/uploads/2025/05/Women-of-Vision-Conference.jpg
ORGANIZER;CN="RCCG Hosanna Chapel%2C Helsinki":MAILTO:rccghelsinki2016@gmail.com
END:VEVENT
BEGIN:VEVENT
DTSTART;VALUE=DATE:20250927
DTEND;VALUE=DATE:20250928
DTSTAMP:20260423T232505
CREATED:20250518T180819Z
LAST-MODIFIED:20250914T095410Z
UID:1518-1758931200-1759017599@rccghelsinki.com
SUMMARY:Choir Concert
DESCRIPTION:📅 Date: Saturday\, September 27\, 2025 \n🎼 Let the Music Lift Your Spirit! \nJoin us for an unforgettable evening of beautiful music at the Hosanna Chapel Choir Concert. Experience the power of anointed voices lifting praises to God. \nThe choir will present a rich repertoire of inspiring songs that will uplift your spirit and fill your heart with joy. Expect melodies that connect your soul with heaven. \nMark your calendar and invite your friends and family. Let’s worship God together through the universal language of music.
URL:https://rccghelsinki.com/event/1518/
LOCATION:Hosanna Chapel\, Helsinki\, Sornaisten Rantatie 33D\, 3rd Floor\, Helsinki\, 00960\, Finland
ATTACH;FMTTYPE=image/jpeg:https://rccghelsinki.com/wp-content/uploads/2025/05/WhatsApp-Image-2025-09-14-at-12.41.07-PM.jpg
ORGANIZER;CN="RCCG Hosanna Chapel%2C Helsinki":MAILTO:rccghelsinki2016@gmail.com
END:VEVENT
BEGIN:VEVENT
DTSTART;TZID=UTC:20250907T120000
DTEND;TZID=UTC:20250907T150000
DTSTAMP:20260423T232505
CREATED:20250518T180107Z
LAST-MODIFIED:20250831T083400Z
UID:1514-1757246400-1757257200@rccghelsinki.com
SUMMARY:International Multi-Cultural Day
DESCRIPTION:📅 Date: Sunday\, September 7\, 2025\n⏰ Time: 12:00 pm \n🌏 A Celebration of Diversity in Christ! \nHosanna Chapel is a home for people of all nations\, and this special day celebrates the beauty of our diversity in Christ. \nCome dressed in your traditional attire\, ready to share your culture through food\, music\, and testimonies. There will be vibrant performances\, inspiring messages\, and a feast that represents our multicultural congregation. \nInvite your friends and neighbors. Let’s show the world that in Christ\, we are one big\, joyful family!
URL:https://rccghelsinki.com/event/international-multi-cultural-day-2/
LOCATION:Hosanna Chapel\, Helsinki\, Sornaisten Rantatie 33D\, 3rd Floor\, Helsinki\, 00960\, Finland
ATTACH;FMTTYPE=image/jpeg:https://rccghelsinki.com/wp-content/uploads/2025/05/WhatsApp-Image-2025-08-25-at-21.43.53.jpeg
ORGANIZER;CN="RCCG Hosanna Chapel%2C Helsinki":MAILTO:rccghelsinki2016@gmail.com
END:VEVENT
BEGIN:VEVENT
DTSTART;VALUE=DATE:20250829
DTEND;VALUE=DATE:20250831
DTSTAMP:20260423T232505
CREATED:20250518T131000Z
LAST-MODIFIED:20250518T131428Z
UID:1506-1756425600-1756598399@rccghelsinki.com
SUMMARY:Couples Retreat – In Defense of Marriage & Family (Chapter 2)
DESCRIPTION:📅 Dates: Friday\, August 29 – Saturday\, August 30\, 2025 \n💑 Strengthen Your Marriage\, Build a Godly Home! \nMarriage is a sacred institution ordained by God\, and it requires intentional effort to thrive. This retreat is a time for couples to reconnect\, learn\, and grow together. \nThrough inspiring teachings and engaging sessions\, you’ll gain practical tools to strengthen your marriage and defend your family against challenges. Expect heartwarming discussions\, fun activities\, and moments of deep connection with your spouse. \nWhether you’re newly married or have been together for years\, this retreat will bless and enrich your relationship.
URL:https://rccghelsinki.com/event/couples-retreat-in-defense-of-marriage-family-chapter-2/
LOCATION:Hämeenlinna Scandic Aulanko\, Spa hotel Scandic Aulanko\, Aulangontie 93\, Hämeenlinna\, 13220\, Finland
ATTACH;FMTTYPE=image/jpeg:https://rccghelsinki.com/wp-content/uploads/2025/05/Couples-retreat.jpg
ORGANIZER;CN="RCCG Hosanna Chapel%2C Helsinki":MAILTO:rccghelsinki2016@gmail.com
END:VEVENT
BEGIN:VEVENT
DTSTART;TZID=UTC:20250823T123000
DTEND;TZID=UTC:20250824T143000
DTSTAMP:20260423T232505
CREATED:20250518T132104Z
LAST-MODIFIED:20250817T084651Z
UID:1512-1755952200-1756045800@rccghelsinki.com
SUMMARY:Christian Children’s Workshop
DESCRIPTION:Dates: Saturday\, August 23 – Sunday\, August 24\, 2025 \n👧 Nurturing Our Children in God’s Word! \nOur children are the future\, and it’s important to build a strong spiritual foundation for them. Join us for the Christian Children’s Workshop — a weekend dedicated to teaching biblical values in a fun and engaging way. \nKids will participate in interactive sessions\, games\, and creative activities designed to deepen their understanding of God’s love and Word. They’ll also learn essential life skills through inspiring teachings and group interactions. \nParents\, bring your kids and let’s invest in their spiritual growth together. Don’t let them miss this enriching experience!
URL:https://rccghelsinki.com/event/christian-childrens-workshop-2/
LOCATION:Hosanna Chapel\, Helsinki\, Sornaisten Rantatie 33D\, 3rd Floor\, Helsinki\, 00960\, Finland
ATTACH;FMTTYPE=image/jpeg:https://rccghelsinki.com/wp-content/uploads/2024/06/family-1.jpg
ORGANIZER;CN="RCCG Hosanna Chapel%2C Helsinki":MAILTO:rccghelsinki2016@gmail.com
END:VEVENT
BEGIN:VEVENT
DTSTART;TZID=UTC:20250802T130000
DTEND;TZID=UTC:20250802T190000
DTSTAMP:20260423T232505
CREATED:20250518T125732Z
LAST-MODIFIED:20250725T081019Z
UID:1502-1754139600-1754161200@rccghelsinki.com
SUMMARY:Church Barbecue & Sports Day
DESCRIPTION:Date: Saturday\, August 2\, 2025 \n🍔 Food\, Fun\, and Fellowship! \nJoin us for an exciting Church Barbecue & Sports Day! It’s a time to relax\, connect\, and enjoy a day filled with good food and friendly sports competitions. \nWhether you’re a sports enthusiast or simply looking to enjoy the company of fellow believers\, there’s something for everyone. From thrilling games to delicious barbecue treats\, it’s going to be a day of joy and bonding. \nBring your friends and family along. Let’s strengthen our community ties while having a blast in God’s presence!
URL:https://rccghelsinki.com/event/church-barbecue-sports-day/
LOCATION:Oittaa Beach / Outdoor Gym\, Kunnarlantie 33–39\, Espoo\, 02740\, Finland
ATTACH;FMTTYPE=image/jpeg:https://rccghelsinki.com/wp-content/uploads/2025/05/WhatsApp-Image-2025-07-17-at-16.05.13.jpg
ORGANIZER;CN="RCCG Hosanna Chapel%2C Helsinki":MAILTO:rccghelsinki2016@gmail.com
END:VEVENT
BEGIN:VEVENT
DTSTART;TZID=UTC:20250705T120000
DTEND;TZID=UTC:20250705T140000
DTSTAMP:20260423T232505
CREATED:20250518T124912Z
LAST-MODIFIED:20250701T210139Z
UID:1498-1751716800-1751724000@rccghelsinki.com
SUMMARY:Lahti Outreach
DESCRIPTION:📅 Date: Saturday\, July 5\, 2025 \n🤲 Bringing the Gospel to Lahti! \nGet ready for a mission trip that will touch lives and transform hearts. Join us as we head to Lahti for a day of impactful outreach\, sharing God’s Word\, and demonstrating His love. \nWe’ll be engaging with the community\, spreading the message of salvation\, and offering prayers for those in need. Your presence and voice can make a difference in someone’s eternity. \nBe part of this mission\, and let’s bring the light of Jesus to Lahti together. Come with a heart full of compassion and faith!
URL:https://rccghelsinki.com/event/lahti-outreach/
LOCATION:Vapaudenkatu (Market Square) Lahti\, Vapaudenkatu 7\, Lahti\, 15110\, Finland
ATTACH;FMTTYPE=image/jpeg:https://rccghelsinki.com/wp-content/uploads/2025/05/outreach.jpg
ORGANIZER;CN="RCCG Hosanna Chapel%2C Helsinki":MAILTO:rccghelsinki2016@gmail.com
END:VEVENT
BEGIN:VEVENT
DTSTART;TZID=UTC:20250613T190000
DTEND;TZID=UTC:20250615T150000
DTSTAMP:20260423T232505
CREATED:20250518T123524Z
LAST-MODIFIED:20250518T130324Z
UID:1490-1749841200-1749999600@rccghelsinki.com
SUMMARY:Lift International Conference
DESCRIPTION:📅 Dates: Friday\, June 13th – Sunday\, June 15th 2025\n⏰ Time: \n\nDay 1: Friday @ 19:00 Worship Night\nDay 2: Saturday @ 15:00\nDay 3: Sunday @ 12:00 Prophetic Encounter\n\n🔥 Experience a Supernatural Lifting! \nLift International Conference is here! Prepare for three days of dynamic worship\, powerful teachings\, and prophetic encounters with the Almighty. \nOn Friday\, immerse yourself in an electrifying worship experience as we lift up the name of Jesus. Saturday promises insightful teachings that will build your faith and equip you for greatness. On Sunday\, encounter the prophetic move of God that will propel you into your divine destiny. \nInvite your family and friends. Expect miracles\, breakthroughs\, and a fresh impartation from the Holy Spirit!
URL:https://rccghelsinki.com/event/lift-international-conference-2/
LOCATION:Hosanna Chapel\, Helsinki\, Sornaisten Rantatie 33D\, 3rd Floor\, Helsinki\, 00960\, Finland
ATTACH;FMTTYPE=image/jpeg:https://rccghelsinki.com/wp-content/uploads/2025/05/Lift-conference.jpg
ORGANIZER;CN="RCCG Hosanna Chapel%2C Helsinki":MAILTO:rccghelsinki2016@gmail.com
END:VEVENT
BEGIN:VEVENT
DTSTART;TZID=UTC:20250531T120000
DTEND;TZID=UTC:20250601T170000
DTSTAMP:20260423T232505
CREATED:20250427T162335Z
LAST-MODIFIED:20250428T075018Z
UID:1483-1748692800-1748797200@rccghelsinki.com
SUMMARY:Global Day Outreach (G.O.)
DESCRIPTION:📅 Dates: Saturday\, May 31 & Sunday\, June 1\, 2025 \n🌍 A Call to Impact the World! \nJoin believers around the globe as we take the Gospel beyond the four walls of the church during our Global Day Outreach. It’s time to go out into the world and make disciples\, just as Jesus commanded us. \nOn Saturday\, we will gather for strategic prayers and an impactful outreach mission\, connecting with people and sharing the good news. Sunday will be a powerful service filled with testimonies of God’s move and encouragement to continue living missionally. \nDon’t miss this opportunity to be part of a global movement for Christ. Together\, let’s win souls for the Kingdom!
URL:https://rccghelsinki.com/event/global-day-outreach-g-o/
LOCATION:Hosanna Chapel\, Helsinki\, Sornaisten Rantatie 33D\, 3rd Floor\, Helsinki\, 00960\, Finland
ATTACH;FMTTYPE=image/jpeg:https://rccghelsinki.com/wp-content/uploads/2025/04/outreach.jpg
ORGANIZER;CN="RCCG Hosanna Chapel%2C Helsinki":MAILTO:rccghelsinki2016@gmail.com
END:VEVENT
BEGIN:VEVENT
DTSTART;TZID=UTC:20250501T130000
DTEND;TZID=UTC:20250501T153000
DTSTAMP:20260423T232505
CREATED:20250427T162055Z
LAST-MODIFIED:20250428T075151Z
UID:1480-1746104400-1746113400@rccghelsinki.com
SUMMARY:Vappu Day Outreach
DESCRIPTION:📅 Date: Thursday\, May 1\, 2025 \n🌍 Sharing God’s Love in the Heart of Helsinki! \nVappu Day is a time for celebration and community in Finland. What better way to spend it than sharing the love of Christ with others? Join us for this special outreach event as we connect with people\, spread the Gospel\, and make a positive impact in our community. \nThere will be opportunities to distribute tracts\, pray for people\, and share uplifting messages of hope. As ambassadors of Christ\, let’s use this day to sow seeds of love and compassion. \nWhether you’re a seasoned evangelist or just stepping into outreach ministry\, your presence will make a difference. Together\, let’s be the light in Helsinki!
URL:https://rccghelsinki.com/event/vappu-day-outreach/
LOCATION:Tuomiokirkko\, Helsinki\, Unioninkatu 29\, Helsinki\, 00170\, Finland
ATTACH;FMTTYPE=image/jpeg:https://rccghelsinki.com/wp-content/uploads/2024/06/connect.jpg
ORGANIZER;CN="RCCG Hosanna Chapel%2C Helsinki":MAILTO:rccghelsinki2016@gmail.com
END:VEVENT
BEGIN:VEVENT
DTSTART;TZID=UTC:20250427T153000
DTEND;TZID=UTC:20250427T180000
DTSTAMP:20260423T232505
CREATED:20250426T095449Z
LAST-MODIFIED:20250426T095449Z
UID:1477-1745767800-1745776800@rccghelsinki.com
SUMMARY:Taste & See – The Ultimate Cooking Competition!
DESCRIPTION:RCCG Hosanna Chapel Youths Present: \nGet ready for a sizzling showdown as single brothers go head-to-head with single sisters in a fun-filled cooking challenge! \nWho will win the crown of flavor? Come find out! \n\nDate: Sunday\, April 27\, 2025\nTime: 3:30 PM\nVenue: Hosanna Chapel Hall\n\nIt’s more than cooking—it’s bonding\, laughter\, and great food! \nDon’t miss it. Come hungry\, come curious!
URL:https://rccghelsinki.com/event/taste-see-the-ultimate-cooking-competition/
LOCATION:Hosanna Chapel\, Helsinki\, Sornaisten Rantatie 33D\, 3rd Floor\, Helsinki\, 00960\, Finland
ATTACH;FMTTYPE=image/jpeg:https://rccghelsinki.com/wp-content/uploads/2025/04/Cooking-competition.jpg
ORGANIZER;CN="RCCG Hosanna Chapel%2C Helsinki":MAILTO:rccghelsinki2016@gmail.com
END:VEVENT
END:VCALENDAR