BEGIN:VCALENDAR
VERSION:2.0
PRODID:-//RCCG, Hosanna Chapel Helsinki - ECPv6.15.3//NONSGML v1.0//EN
CALSCALE:GREGORIAN
METHOD:PUBLISH
X-ORIGINAL-URL:https://rccghelsinki.com
X-WR-CALDESC:Events for RCCG, Hosanna Chapel Helsinki
REFRESH-INTERVAL;VALUE=DURATION:PT1H
X-Robots-Tag:noindex
X-PUBLISHED-TTL:PT1H
BEGIN:VTIMEZONE
TZID:UTC
BEGIN:STANDARD
TZOFFSETFROM:+0000
TZOFFSETTO:+0000
TZNAME:UTC
DTSTART:20260101T000000
END:STANDARD
END:VTIMEZONE
BEGIN:VEVENT
DTSTART;TZID=UTC:20261213T120000
DTEND;TZID=UTC:20261213T140000
DTSTAMP:20260424T052439
CREATED:20260325T195911Z
LAST-MODIFIED:20260325T195946Z
UID:1681-1797163200-1797170400@rccghelsinki.com
SUMMARY:CHILDREN'S CHRISTMAS PARTY – Joy to the World!
DESCRIPTION:📅 Date: Sunday\, December 13th 2026 \nGet ready for a magical celebration just for the little ones! Join us Sunday 13th December for the Children’s Christmas Party\, a fun-filled day packed with laughter\, excitement\, and the true joy of the season. \nKids will enjoy games\, festive treats\, gifts\, and even a visit from Santa with a Jesus twist\, all designed to make Christmas unforgettable. Through playful activities and heartwarming moments\, children will experience the wonder and meaning of Christ’s birth in a joyful\, engaging way. \nParents\, this is the perfect opportunity to bring smiles to little faces\, create memories\, and celebrate the season with your children surrounded by love\, worship\, and festive cheer. ✨Let’s make this Christmas sparkle for our kids—joy\, fun\, and the love of Jesus await!
URL:https://rccghelsinki.com/event/childrens-christmas-party-joy-to-the-world/
LOCATION:Hosanna Chapel\, Helsinki\, Sornaisten Rantatie 33D\, 3rd Floor\, Helsinki\, 00960\, Finland
ATTACH;FMTTYPE=image/jpeg:https://rccghelsinki.com/wp-content/uploads/2025/05/christmas.jpg
ORGANIZER;CN="RCCG Hosanna Chapel%2C Helsinki":MAILTO:rccghelsinki2016@gmail.com
END:VEVENT
END:VCALENDAR