BEGIN:VCALENDAR
VERSION:2.0
PRODID:-//RCCG, Hosanna Chapel Helsinki - ECPv6.15.3//NONSGML v1.0//EN
CALSCALE:GREGORIAN
METHOD:PUBLISH
X-WR-CALNAME:RCCG, Hosanna Chapel Helsinki
X-ORIGINAL-URL:https://rccghelsinki.com
X-WR-CALDESC:Events for RCCG, Hosanna Chapel Helsinki
REFRESH-INTERVAL;VALUE=DURATION:PT1H
X-Robots-Tag:noindex
X-PUBLISHED-TTL:PT1H
BEGIN:VTIMEZONE
TZID:UTC
BEGIN:STANDARD
TZOFFSETFROM:+0000
TZOFFSETTO:+0000
TZNAME:UTC
DTSTART:20260101T000000
END:STANDARD
END:VTIMEZONE
BEGIN:VEVENT
DTSTART;TZID=UTC:20261205T160000
DTEND;TZID=UTC:20261205T193000
DTSTAMP:20260424T034113
CREATED:20260325T195555Z
LAST-MODIFIED:20260325T195555Z
UID:1679-1796486400-1796499000@rccghelsinki.com
SUMMARY:WORKERS DINNER – Honouring Kingdom Labourers!
DESCRIPTION:📅 Date: Saturday\, December 6th 2026 \nIt’s time to celebrate the dedication and service of God’s faithful labourers! Join us Saturday 5th December for a special Workers Dinner\, an evening designed to honour and appreciate everyone who serves in the Lord’s work. \nEnjoy a delicious dinner\, heartfelt encouragement\, and warm fellowship with fellow church workers. This is your moment to relax\, recharge\, and be celebrated for the countless hours\, prayers\, and effort you pour into God’s Kingdom. \nYour commitment matters\, your service is valued\, and your labour is never in vain. Come feel appreciated\, connect with others\, and be reminded of the impact your faithfulness has on the church and community. Let’s celebrate you—the Kingdom labourers who make a difference every day! 🎶
URL:https://rccghelsinki.com/event/workers-dinner-honouring-kingdom-labourers-2/
LOCATION:Hosanna Chapel\, Helsinki\, Sornaisten Rantatie 33D\, 3rd Floor\, Helsinki\, 00960\, Finland
ATTACH;FMTTYPE=image/png:https://rccghelsinki.com/wp-content/uploads/2024/07/loo.png
ORGANIZER;CN="RCCG Hosanna Chapel%2C Helsinki":MAILTO:rccghelsinki2016@gmail.com
END:VEVENT
END:VCALENDAR