BEGIN:VCALENDAR
VERSION:2.0
PRODID:-//RCCG, Hosanna Chapel Helsinki - ECPv6.15.3//NONSGML v1.0//EN
CALSCALE:GREGORIAN
METHOD:PUBLISH
X-ORIGINAL-URL:https://rccghelsinki.com
X-WR-CALDESC:Events for RCCG, Hosanna Chapel Helsinki
REFRESH-INTERVAL;VALUE=DURATION:PT1H
X-Robots-Tag:noindex
X-PUBLISHED-TTL:PT1H
BEGIN:VTIMEZONE
TZID:UTC
BEGIN:STANDARD
TZOFFSETFROM:+0000
TZOFFSETTO:+0000
TZNAME:UTC
DTSTART:20260101T000000
END:STANDARD
END:VTIMEZONE
BEGIN:VEVENT
DTSTART;VALUE=DATE:20261024
DTEND;VALUE=DATE:20261026
DTSTAMP:20260424T022301
CREATED:20260325T193415Z
LAST-MODIFIED:20260325T193425Z
UID:1666-1792800000-1792972799@rccghelsinki.com
SUMMARY:HOSANNA CHAPEL 25TH ANNIVERSARY: CELEBRATION – A New Dawn (Grace Upon Grace)
DESCRIPTION:📅 Dates: Saturday\, October 24th & October 25th 2026 \nMark a remarkable milestone of 25 years of God’s faithfulness at our grand Celebration – A New Dawn! Join us Saturday 24th – Sunday 25th October for a weekend overflowing with gratitude\, joy\, and divine encounters. \nExperience a heartfelt journey of thanksgiving\, inspiring testimonies\, special worship\, and moments filled with explosive grace. Celebrate how far God has brought us\, reflect on the victories\, and prepare your heart for the even greater future ahead. \nThis is a time to rejoice together as a community\, embrace the abundance of God’s blessings\, and receive fresh grace for your own season of breakthrough and favor. From meaningful worship to unforgettable celebrations\, every moment will remind you of God’s unwavering love and provision. \nBring your friends\, family\, and loved ones\, and be part of a historic celebration of faith\, hope\, and divine favor. Come celebrate with us—grace upon grace awaits! 🙌
URL:https://rccghelsinki.com/event/hosanna-chapel-25th-anniversary-celebration-a-new-dawn-grace-upon-grace/
LOCATION:Hosanna Chapel\, Helsinki\, Sornaisten Rantatie 33D\, 3rd Floor\, Helsinki\, 00960\, Finland
ATTACH;FMTTYPE=image/png:https://rccghelsinki.com/wp-content/uploads/2024/07/loo.png
ORGANIZER;CN="RCCG Hosanna Chapel%2C Helsinki":MAILTO:rccghelsinki2016@gmail.com
END:VEVENT
END:VCALENDAR