BEGIN:VCALENDAR
VERSION:2.0
PRODID:-//RCCG, Hosanna Chapel Helsinki - ECPv6.15.3//NONSGML v1.0//EN
CALSCALE:GREGORIAN
METHOD:PUBLISH
X-ORIGINAL-URL:https://rccghelsinki.com
X-WR-CALDESC:Events for RCCG, Hosanna Chapel Helsinki
REFRESH-INTERVAL;VALUE=DURATION:PT1H
X-Robots-Tag:noindex
X-PUBLISHED-TTL:PT1H
BEGIN:VTIMEZONE
TZID:UTC
BEGIN:STANDARD
TZOFFSETFROM:+0000
TZOFFSETTO:+0000
TZNAME:UTC
DTSTART:20260101T000000
END:STANDARD
END:VTIMEZONE
BEGIN:VEVENT
DTSTART;TZID=UTC:20261002T080000
DTEND;TZID=UTC:20261004T170000
DTSTAMP:20260424T004856
CREATED:20260325T192447Z
LAST-MODIFIED:20260325T195048Z
UID:1654-1790928000-1791133200@rccghelsinki.com
SUMMARY:7TH WOMEN OF VISION CONFERENCE – Empowered\, Anointed\, Unstoppable!
DESCRIPTION:📅 Dates: Friday\, October 2nd – October 4th 2026 \n📢 Calling all visionary women! Step into a season of renewed purpose\, empowerment\, and divine destiny at the 6th Women of Vision Conference\, happening Friday 2nd – Sunday 4th October. This is a special gathering designed to inspire\, equip\, and elevate women to walk boldly in their God-given calling. \nOver three impactful days\, you will receive fresh vision\, healing\, empowerment\, and prophetic guidance—tools to help you rise as a daughter of destiny and impact the world around you. Expect dynamic teachings\, powerful prayer sessions\, and encounters that will awaken your potential and fuel your spiritual growth. \nThis is more than a conference—it’s a movement of empowered women stepping into purpose\, breaking barriers\, and becoming unstoppable in every area of life. 🙌 Connect with like-minded sisters in faith\, share experiences\, and leave inspired to make a lasting difference. \nLadies\, this is your moment to shine\, rise\, and embrace the fullness of God’s plan for your life. Register now and step confidently into your season of empowerment!
URL:https://rccghelsinki.com/event/7th-women-of-vision-conference-empowered-anointed-unstoppable/
LOCATION:Hosanna Chapel\, Helsinki\, Sornaisten Rantatie 33D\, 3rd Floor\, Helsinki\, 00960\, Finland
ATTACH;FMTTYPE=image/png:https://rccghelsinki.com/wp-content/uploads/2024/07/loo.png
ORGANIZER;CN="RCCG Hosanna Chapel%2C Helsinki":MAILTO:rccghelsinki2016@gmail.com
END:VEVENT
END:VCALENDAR