BEGIN:VCALENDAR
VERSION:2.0
PRODID:-//RCCG, Hosanna Chapel Helsinki - ECPv6.15.3//NONSGML v1.0//EN
CALSCALE:GREGORIAN
METHOD:PUBLISH
X-WR-CALNAME:RCCG, Hosanna Chapel Helsinki
X-ORIGINAL-URL:https://rccghelsinki.com
X-WR-CALDESC:Events for RCCG, Hosanna Chapel Helsinki
REFRESH-INTERVAL;VALUE=DURATION:PT1H
X-Robots-Tag:noindex
X-PUBLISHED-TTL:PT1H
BEGIN:VTIMEZONE
TZID:UTC
BEGIN:STANDARD
TZOFFSETFROM:+0000
TZOFFSETTO:+0000
TZNAME:UTC
DTSTART:20260101T000000
END:STANDARD
END:VTIMEZONE
BEGIN:VEVENT
DTSTART;VALUE=DATE:20260822
DTEND;VALUE=DATE:20260824
DTSTAMP:20260423T233229
CREATED:20260311T171517Z
LAST-MODIFIED:20260325T193019Z
UID:1635-1787356800-1787529599@rccghelsinki.com
SUMMARY:CHRISTIAN CHILDREN'S WORKSHOP – Building Champions for Christ!
DESCRIPTION:📅 Dates: Saturday\, August 22nd & Sunday\, August 23rd 2026 \nGive your children a wonderful opportunity to grow in faith\, confidence\, and joy at our special Christian Children’s Workshop! This exciting weekend is designed especially for young hearts and minds\, helping them discover the love of Jesus in a fun\, engaging\, and meaningful way. \n🎊 Join us Saturday 22nd – Sunday 23rd August at Hosanna Chapel for a vibrant time filled with Bible adventures\, creative crafts\, exciting games\, uplifting songs\, and inspiring teachings that will help children understand God’s Word in a way they can enjoy and remember. \nThroughout the workshop\, children will learn valuable lessons about faith\, kindness\, courage\, and purpose\, while building friendships and creating lasting memories in a warm and encouraging environment. Our dedicated team will guide the children through activities that are not only fun but also designed to strengthen their spiritual foundation and nurture their love for Jesus. \nParents\, this is a wonderful way to invest in your children’s spiritual growth and help them develop a strong foundation of faith for the future. Bring your little ones and let them experience a weekend of learning\, laughter\, and discovery that they will cherish for years to come. \nLet’s raise the next generation of champions for Christ! 🙌
URL:https://rccghelsinki.com/event/christian-childrens-workshop-building-champions-for-christ/
LOCATION:Hosanna Chapel\, Helsinki\, Sornaisten Rantatie 33D\, 3rd Floor\, Helsinki\, 00960\, Finland
ATTACH;FMTTYPE=image/png:https://rccghelsinki.com/wp-content/uploads/2024/07/loo.png
ORGANIZER;CN="RCCG Hosanna Chapel%2C Helsinki":MAILTO:rccghelsinki2016@gmail.com
END:VEVENT
END:VCALENDAR