BEGIN:VCALENDAR
VERSION:2.0
PRODID:-//RCCG, Hosanna Chapel Helsinki - ECPv6.15.3//NONSGML v1.0//EN
CALSCALE:GREGORIAN
METHOD:PUBLISH
X-WR-CALNAME:RCCG, Hosanna Chapel Helsinki
X-ORIGINAL-URL:https://rccghelsinki.com
X-WR-CALDESC:Events for RCCG, Hosanna Chapel Helsinki
REFRESH-INTERVAL;VALUE=DURATION:PT1H
X-Robots-Tag:noindex
X-PUBLISHED-TTL:PT1H
BEGIN:VTIMEZONE
TZID:UTC
BEGIN:STANDARD
TZOFFSETFROM:+0000
TZOFFSETTO:+0000
TZNAME:UTC
DTSTART:20260101T000000
END:STANDARD
END:VTIMEZONE
BEGIN:VEVENT
DTSTART;VALUE=DATE:20260808
DTEND;VALUE=DATE:20260809
DTSTAMP:20260423T231811
CREATED:20260311T170445Z
LAST-MODIFIED:20260325T193007Z
UID:1632-1786147200-1786233599@rccghelsinki.com
SUMMARY:CHURCH BARBECUE & SPORT DAY - Fellowship\, Fun & Fire!
DESCRIPTION:📅 Date: Saturday\, August 8th 2026 \nFellowship\, Fun & Fire! 🙌 \nGet ready for a day filled with laughter\, connection\, and unforgettable moments with your Hosanna family! Saturday 8th August is all about coming together to relax\, celebrate community\, and enjoy great fellowship in a joyful and welcoming atmosphere. \nBring your appetite and your energy\, because the day will be packed with delicious barbecue\, exciting sports\, fun activities\, and plenty of laughter. It’s the perfect opportunity to step away from the routine\, enjoy the outdoors\, and spend quality time with friends\, family\, and new faces. \nMore than just fun\, this gathering is about building stronger bonds\, creating meaningful connections\, and celebrating the beautiful community we share. Whether you’re joining in the games\, sharing a meal\, or simply enjoying the moment\, there will be something for everyone to enjoy. This is a family-friendly event\, so feel free to bring the kids\, invite your friends\, and come ready for a day of joy\, fellowship\, and refreshing moments together. 💃 \nGood food\, great people\, and a spark of spiritual warmth—this is Fellowship\, Fun & Fire. Don’t miss it!
URL:https://rccghelsinki.com/event/church-barbecue-sports-day-2/
LOCATION:Hosanna Chapel\, Helsinki\, Sornaisten Rantatie 33D\, 3rd Floor\, Helsinki\, 00960\, Finland
ATTACH;FMTTYPE=image/jpeg:https://rccghelsinki.com/wp-content/uploads/2026/03/sports-and-barbecue.jpg
ORGANIZER;CN="RCCG Hosanna Chapel%2C Helsinki":MAILTO:rccghelsinki2016@gmail.com
END:VEVENT
END:VCALENDAR