BEGIN:VCALENDAR
VERSION:2.0
PRODID:-//RCCG, Hosanna Chapel Helsinki - ECPv6.15.3//NONSGML v1.0//EN
CALSCALE:GREGORIAN
METHOD:PUBLISH
X-WR-CALNAME:RCCG, Hosanna Chapel Helsinki
X-ORIGINAL-URL:https://rccghelsinki.com
X-WR-CALDESC:Events for RCCG, Hosanna Chapel Helsinki
REFRESH-INTERVAL;VALUE=DURATION:PT1H
X-Robots-Tag:noindex
X-PUBLISHED-TTL:PT1H
BEGIN:VTIMEZONE
TZID:UTC
BEGIN:STANDARD
TZOFFSETFROM:+0000
TZOFFSETTO:+0000
TZNAME:UTC
DTSTART:20260101T000000
END:STANDARD
END:VTIMEZONE
BEGIN:VEVENT
DTSTART;VALUE=DATE:20260703
DTEND;VALUE=DATE:20260705
DTSTAMP:20260423T202615
CREATED:20260311T164504Z
LAST-MODIFIED:20260325T192923Z
UID:1626-1783036800-1783209599@rccghelsinki.com
SUMMARY:GREAT HELSINKI OUTREACH – Bringing Heaven to Helsinki!
DESCRIPTION:📅 Dates: Friday\, July 3rd & Saturday\, 4th July 2026 \nGet ready for a powerful move of God as we step out in faith to bring hope\, love\, and the message of the Gospel to the heart of the city. The Great Helsinki Outreach is a special opportunity for believers to come together with one mission—to impact lives and shine the light of Christ throughout Helsinki. 🙌 \nFrom Friday 3rd to Saturday 4th July\, we will take the Gospel to the streets\, sharing the love of Jesus with people from every background and culture. This outreach is about reaching hearts\, encouraging communities\, and demonstrating God’s compassion in practical and powerful ways. \nExpect moments of miracles\, salvations\, heartfelt conversations\, and divine encounters as lives are touched and transformed. Whether through prayer\, encouragement\, worship\, or simple acts of kindness\, every participant plays a role in spreading hope across the city. \nYou don’t need to be a professional evangelist—just bring your faith\, your passion\, and your willingness to serve. When we come together with one purpose\, God moves in extraordinary ways. This is your chance to be part of something historic. Step forward\, be the light our city needs\, and help spark a wave of revival that can impact generations. \nSign up today and be part of the movement—together\, let’s bring heaven to Helsinki! 🌎
URL:https://rccghelsinki.com/event/great-helsinki-outreach-bringing-heaven-to-helsinki/
LOCATION:Hosanna Chapel\, Helsinki\, Sornaisten Rantatie 33D\, 3rd Floor\, Helsinki\, 00960\, Finland
ATTACH;FMTTYPE=image/jpeg:https://rccghelsinki.com/wp-content/uploads/2025/05/outreach.jpg
ORGANIZER;CN="RCCG Hosanna Chapel%2C Helsinki":MAILTO:rccghelsinki2016@gmail.com
END:VEVENT
END:VCALENDAR