BEGIN:VCALENDAR
VERSION:2.0
PRODID:-//RCCG, Hosanna Chapel Helsinki - ECPv6.15.3//NONSGML v1.0//EN
CALSCALE:GREGORIAN
METHOD:PUBLISH
X-ORIGINAL-URL:https://rccghelsinki.com
X-WR-CALDESC:Events for RCCG, Hosanna Chapel Helsinki
REFRESH-INTERVAL;VALUE=DURATION:PT1H
X-Robots-Tag:noindex
X-PUBLISHED-TTL:PT1H
BEGIN:VTIMEZONE
TZID:UTC
BEGIN:STANDARD
TZOFFSETFROM:+0000
TZOFFSETTO:+0000
TZNAME:UTC
DTSTART:20260101T000000
END:STANDARD
END:VTIMEZONE
BEGIN:VEVENT
DTSTART;TZID=UTC:20260404T000000
DTEND;TZID=UTC:20260405T170000
DTSTAMP:20260423T172419
CREATED:20260306T192721Z
LAST-MODIFIED:20260404T095500Z
UID:1613-1775260800-1775408400@rccghelsinki.com
SUMMARY:RESURRECTION WEEKEND – Power\, Praise & New Life!
DESCRIPTION:📅 Dates: Saturday\, April 4th & Sunday\, April 5th 2026 \n🕔 Venue & Times: \n\nEvangelism\, Drama & Worship – Kaivokatu 8 Helsinki City Centre – 14:00 | 2 pm\nResurrection Service – Hosanna Chapel\, Helsinki – 12:00 pm\n\n🎊 Celebrate the victory of the risen King in a powerful and uplifting Resurrection Weekend filled with faith\, joy\, and life-changing moments. This is a special time to reflect on the hope and new life that the resurrection of Christ brings to every believer. \nThe celebration begins on Saturday 4th of April at 14:00 with an inspiring evening of Drama & Worship. Experience the resurrection story brought to life through powerful performances\, heartfelt worship\, and moments that will touch your heart and strengthen your faith. \nThen continue the celebration on Sunday 5th April at 12:00 with our glorious Resurrection Service. 🙌 Come and encounter the life-giving power of the risen Christ through dynamic worship\, uplifting messages\, and an atmosphere filled with praise and thanksgiving. \nThis Resurrection Weekend is an opportunity to experience healing\, restoration\, renewed hope\, and fresh spiritual fire. No matter where you are in life\, the message of the resurrection reminds us that new beginnings are always possible. \nBring your family\, invite your friends\, and join the Hosanna family as we lift our voices in triumphant praise and celebrate the victory of life over death. \nThis is your moment to rise again. Come and experience the power of Resurrection! 🎊
URL:https://rccghelsinki.com/event/resurrection-weekend-power-praise-new-life/
LOCATION:Hosanna Chapel\, Helsinki\, Sornaisten Rantatie 33D\, 3rd Floor\, Helsinki\, 00960\, Finland
ATTACH;FMTTYPE=image/jpeg:https://rccghelsinki.com/wp-content/uploads/2026/03/WhatsApp-Image-2026-04-04-at-09.38.38-1.jpg
ORGANIZER;CN="RCCG Hosanna Chapel%2C Helsinki":MAILTO:rccghelsinki2016@gmail.com
END:VEVENT
END:VCALENDAR