BEGIN:VCALENDAR
VERSION:2.0
PRODID:-//RCCG, Hosanna Chapel Helsinki - ECPv6.15.3//NONSGML v1.0//EN
CALSCALE:GREGORIAN
METHOD:PUBLISH
X-WR-CALNAME:RCCG, Hosanna Chapel Helsinki
X-ORIGINAL-URL:https://rccghelsinki.com
X-WR-CALDESC:Events for RCCG, Hosanna Chapel Helsinki
REFRESH-INTERVAL;VALUE=DURATION:PT1H
X-Robots-Tag:noindex
X-PUBLISHED-TTL:PT1H
BEGIN:VTIMEZONE
TZID:UTC
BEGIN:STANDARD
TZOFFSETFROM:+0000
TZOFFSETTO:+0000
TZNAME:UTC
DTSTART:20250101T000000
END:STANDARD
END:VTIMEZONE
BEGIN:VEVENT
DTSTART;TZID=UTC:20251206T150000
DTEND;TZID=UTC:20251206T190000
DTSTAMP:20260423T232853
CREATED:20250523T101401Z
LAST-MODIFIED:20250523T101401Z
UID:1532-1765033200-1765047600@rccghelsinki.com
SUMMARY:Workers Dinner
DESCRIPTION:📅 Date: Saturday\, December 6\, 2025 \n🍽️ A Night to Honor and Celebrate Our Dedicated Workers! \nAt Hosanna Chapel\, our workers are the backbone of the ministry\, and this dinner is our way of showing appreciation for their dedication and service. \nEnjoy a delightful evening filled with delicious food\, inspiring speeches\, and warm fellowship. It’s a time to relax\, connect\, and reflect on the impact of your service in the Kingdom of God. \nCome dressed to impress and ready to be celebrated. Let’s honor the amazing work of our church family together!
URL:https://rccghelsinki.com/event/workers-dinner/
LOCATION:Hosanna Chapel\, Helsinki\, Sornaisten Rantatie 33D\, 3rd Floor\, Helsinki\, 00960\, Finland
ATTACH;FMTTYPE=image/jpeg:https://rccghelsinki.com/wp-content/uploads/2024/10/WorkersDinner-e1747995191995.jpg
ORGANIZER;CN="RCCG Hosanna Chapel%2C Helsinki":MAILTO:rccghelsinki2016@gmail.com
END:VEVENT
END:VCALENDAR