BEGIN:VCALENDAR
VERSION:2.0
PRODID:-//RCCG, Hosanna Chapel Helsinki - ECPv6.15.3//NONSGML v1.0//EN
CALSCALE:GREGORIAN
METHOD:PUBLISH
X-ORIGINAL-URL:https://rccghelsinki.com
X-WR-CALDESC:Events for RCCG, Hosanna Chapel Helsinki
REFRESH-INTERVAL;VALUE=DURATION:PT1H
X-Robots-Tag:noindex
X-PUBLISHED-TTL:PT1H
BEGIN:VTIMEZONE
TZID:UTC
BEGIN:STANDARD
TZOFFSETFROM:+0000
TZOFFSETTO:+0000
TZNAME:UTC
DTSTART:20250101T000000
END:STANDARD
END:VTIMEZONE
BEGIN:VEVENT
DTSTART;VALUE=DATE:20251123
DTEND;VALUE=DATE:20251124
DTSTAMP:20260424T005347
CREATED:20250523T100850Z
LAST-MODIFIED:20250523T100850Z
UID:1530-1763856000-1763942399@rccghelsinki.com
SUMMARY:Every Praise and Quiz Super Sunday
DESCRIPTION:📅 Date: Sunday\, November 23\, 2025 \n🤔 Worship\, Fellowship\, and Fun! \nIt’s time to test your knowledge and lift your voice in praise! Every Praise and Quiz Super Sunday combines the joy of worship with the thrill of a fun\, interactive quiz session. \nJoin us for a dynamic service filled with powerful praise sessions and moments of learning as we delve into biblical truths through engaging quizzes. \nBring your friends and family — it’s going to be a Sunday of joy\, growth\, and connection. Don’t miss it!
URL:https://rccghelsinki.com/event/every-praise-and-quiz-super-sunday-2/
LOCATION:Hosanna Chapel\, Helsinki\, Sornaisten Rantatie 33D\, 3rd Floor\, Helsinki\, 00960\, Finland
ATTACH;FMTTYPE=image/jpeg:https://rccghelsinki.com/wp-content/uploads/2024/06/StudyTheBible.jpg
ORGANIZER;CN="RCCG Hosanna Chapel%2C Helsinki":MAILTO:rccghelsinki2016@gmail.com
END:VEVENT
END:VCALENDAR