BEGIN:VCALENDAR
VERSION:2.0
PRODID:-//RCCG, Hosanna Chapel Helsinki - ECPv6.15.3//NONSGML v1.0//EN
CALSCALE:GREGORIAN
METHOD:PUBLISH
X-ORIGINAL-URL:https://rccghelsinki.com
X-WR-CALDESC:Events for RCCG, Hosanna Chapel Helsinki
REFRESH-INTERVAL;VALUE=DURATION:PT1H
X-Robots-Tag:noindex
X-PUBLISHED-TTL:PT1H
BEGIN:VTIMEZONE
TZID:UTC
BEGIN:STANDARD
TZOFFSETFROM:+0000
TZOFFSETTO:+0000
TZNAME:UTC
DTSTART:20250101T000000
END:STANDARD
END:VTIMEZONE
BEGIN:VEVENT
DTSTART;TZID=UTC:20251025T120000
DTEND;TZID=UTC:20251026T150000
DTSTAMP:20260424T022301
CREATED:20250523T095002Z
LAST-MODIFIED:20251012T085801Z
UID:1524-1761393600-1761490800@rccghelsinki.com
SUMMARY:Hosanna Chapel at 24th Anniversary (Theme: The God Landmark Encounter)
DESCRIPTION:📅 Dates: Saturday\, October 25 – Sunday\, October 26\, 2025 \n🎉 Celebrating 24 Years of God’s Faithfulness! \nJoin us as we mark the 24th anniversary of Hosanna Chapel with a special celebration themed The God Landmark Encounter. \nThis is more than just a celebration — it’s a time to reflect on God’s unfailing faithfulness and look forward to a future filled with divine encounters. Expect powerful worship\, inspiring testimonies\, and impactful messages from anointed ministers. \nCome with a heart of gratitude\, ready to celebrate and encounter the God of divine landmarks!
URL:https://rccghelsinki.com/event/hosanna-chapel-at-24-anniversary-theme-the-god-landmark-encounter/
LOCATION:Hosanna Chapel\, Helsinki\, Sornaisten Rantatie 33D\, 3rd Floor\, Helsinki\, 00960\, Finland
ATTACH;FMTTYPE=image/png:https://rccghelsinki.com/wp-content/uploads/2024/07/loo.png
ORGANIZER;CN="RCCG Hosanna Chapel%2C Helsinki":MAILTO:rccghelsinki2016@gmail.com
END:VEVENT
END:VCALENDAR